BEGIN:VCALENDAR
VERSION:2.0
PRODID:icalendar-ruby
CALSCALE:GREGORIAN
METHOD:PUBLISH
X-WR-CALNAME:Pat Lid (members only) Schedule
BEGIN:VTIMEZONE
TZID:America/New_York
BEGIN:DAYLIGHT
DTSTART:20260308T030000
TZOFFSETFROM:-0500
TZOFFSETTO:-0400
RRULE:FREQ=YEARLY;BYDAY=2SU;BYMONTH=3
TZNAME:EDT
END:DAYLIGHT
BEGIN:STANDARD
DTSTART:20261101T010000
TZOFFSETFROM:-0400
TZOFFSETTO:-0500
RRULE:FREQ=YEARLY;BYDAY=1SU;BYMONTH=11
TZNAME:EST
END:STANDARD
END:VTIMEZONE
BEGIN:VEVENT
DTSTAMP:20260421T155229Z
UID:drawid:210408
DTSTART:20260413T180000
DTEND:20260413T200000
DESCRIPTION:Games: TBD\, TBD\, TBD
LOCATION:1850 Boulevard de Maisonneuve O\, Montréal\, H3H 1J8\, QC\, CA
SEQUENCE:1776786749
SUMMARY:Pat Lid (members only)
URL;VALUE=URI:https://royal-montreal.curling.io/en/events/23514-pat-lid-mem
 bers-only/draws
END:VEVENT
BEGIN:VEVENT
DTSTAMP:20260421T155229Z
UID:drawid:210409
DTSTART:20260413T201500
DTEND:20260413T221500
DESCRIPTION:Games: TBD\, TBD\, TBD
LOCATION:1850 Boulevard de Maisonneuve O\, Montréal\, H3H 1J8\, QC\, CA
SEQUENCE:1776786749
SUMMARY:Pat Lid (members only)
URL;VALUE=URI:https://royal-montreal.curling.io/en/events/23514-pat-lid-mem
 bers-only/draws
END:VEVENT
BEGIN:VEVENT
DTSTAMP:20260421T155229Z
UID:drawid:210410
DTSTART:20260414T183000
DTEND:20260414T203000
DESCRIPTION:Games: TBD\, TBD\, TBD
LOCATION:1850 Boulevard de Maisonneuve O\, Montréal\, H3H 1J8\, QC\, CA
SEQUENCE:1776786749
SUMMARY:Pat Lid (members only)
URL;VALUE=URI:https://royal-montreal.curling.io/en/events/23514-pat-lid-mem
 bers-only/draws
END:VEVENT
BEGIN:VEVENT
DTSTAMP:20260421T155229Z
UID:drawid:210411
DTSTART:20260414T204500
DTEND:20260414T224500
DESCRIPTION:Games: TBD\, TBD\, TBD
LOCATION:1850 Boulevard de Maisonneuve O\, Montréal\, H3H 1J8\, QC\, CA
SEQUENCE:1776786749
SUMMARY:Pat Lid (members only)
URL;VALUE=URI:https://royal-montreal.curling.io/en/events/23514-pat-lid-mem
 bers-only/draws
END:VEVENT
BEGIN:VEVENT
DTSTAMP:20260421T155229Z
UID:drawid:210412
DTSTART:20260417T180000
DTEND:20260417T200000
DESCRIPTION:Games: TBD\, TBD\, TBD
LOCATION:1850 Boulevard de Maisonneuve O\, Montréal\, H3H 1J8\, QC\, CA
SEQUENCE:1776786749
SUMMARY:Pat Lid (members only)
URL;VALUE=URI:https://royal-montreal.curling.io/en/events/23514-pat-lid-mem
 bers-only/draws
END:VEVENT
BEGIN:VEVENT
DTSTAMP:20260421T155229Z
UID:drawid:210413
DTSTART:20260417T201500
DTEND:20260417T221500
DESCRIPTION:Games: TBD\, TBD\, TBD
LOCATION:1850 Boulevard de Maisonneuve O\, Montréal\, H3H 1J8\, QC\, CA
SEQUENCE:1776786749
SUMMARY:Pat Lid (members only)
URL;VALUE=URI:https://royal-montreal.curling.io/en/events/23514-pat-lid-mem
 bers-only/draws
END:VEVENT
BEGIN:VEVENT
DTSTAMP:20260421T155229Z
UID:drawid:210414
DTSTART:20260420T201500
DTEND:20260420T221500
DESCRIPTION:Games: TBD\, TBD\, TBD
LOCATION:1850 Boulevard de Maisonneuve O\, Montréal\, H3H 1J8\, QC\, CA
SEQUENCE:1776786749
SUMMARY:Pat Lid (members only)
URL;VALUE=URI:https://royal-montreal.curling.io/en/events/23514-pat-lid-mem
 bers-only/draws
END:VEVENT
BEGIN:VEVENT
DTSTAMP:20260421T155229Z
UID:drawid:210415
DTSTART:20260421T201500
DTEND:20260421T221500
DESCRIPTION:Games: TBD\, TBD\, TBD
LOCATION:1850 Boulevard de Maisonneuve O\, Montréal\, H3H 1J8\, QC\, CA
SEQUENCE:1776786749
SUMMARY:Pat Lid (members only)
URL;VALUE=URI:https://royal-montreal.curling.io/en/events/23514-pat-lid-mem
 bers-only/draws
END:VEVENT
BEGIN:VEVENT
DTSTAMP:20260421T155229Z
UID:drawid:210416
DTSTART:20260422T201500
DTEND:20260422T221500
DESCRIPTION:Games: SF 1\, SF 2
LOCATION:1850 Boulevard de Maisonneuve O\, Montréal\, H3H 1J8\, QC\, CA
SEQUENCE:1776786749
SUMMARY:Pat Lid (members only)
URL;VALUE=URI:https://royal-montreal.curling.io/en/events/23514-pat-lid-mem
 bers-only/draws
END:VEVENT
BEGIN:VEVENT
DTSTAMP:20260421T155229Z
UID:drawid:210417
DTSTART:20260423T201500
DTEND:20260423T221500
DESCRIPTION:Games: Pat Lid Final
LOCATION:1850 Boulevard de Maisonneuve O\, Montréal\, H3H 1J8\, QC\, CA
SEQUENCE:1776786749
SUMMARY:Pat Lid (members only)
URL;VALUE=URI:https://royal-montreal.curling.io/en/events/23514-pat-lid-mem
 bers-only/draws
END:VEVENT
END:VCALENDAR
